BEGIN:VCALENDAR
VERSION:2.0
PRODID:KKTIX
CALSCALE:GREGORIAN
METHOD:PUBLISH
BEGIN:VTIMEZONE
TZID:Asia/Taipei
END:VTIMEZONE
BEGIN:VEVENT
DTSTAMP:20260424T161157Z
UID:ce6f86e5-0ebb-41ad-940f-1b715b83edfe
DTSTART:20260408T090000Z
DTEND:20260412T155900Z
CLASS:PUBLIC
DESCRIPTION:https://willmusic.kktix.cc/events/g579f522
LOCATION:另行通知
SUMMARY:FIFTY FIFTY Special Face-to-Face SIGN EVENT in TAIPEI
END:VEVENT
END:VCALENDAR
