BEGIN:VCALENDAR
VERSION:2.0
PRODID:KKTIX
CALSCALE:GREGORIAN
METHOD:PUBLISH
BEGIN:VTIMEZONE
TZID:Asia/Taipei
END:VTIMEZONE
BEGIN:VEVENT
DTSTAMP:20260424T161158Z
UID:c78b04fb-63cb-4a2e-b68e-7f5ef533853e
DTSTART:20260422T090000Z
DTEND:20260424T155900Z
CLASS:PUBLIC
DESCRIPTION:https://willmusic.kktix.cc/events/d0e228ae
LOCATION:另行通知
SUMMARY:ifeye 3rd EP "As if"  VIDEO CALL EVENT
END:VEVENT
END:VCALENDAR
